BEGIN:VCALENDAR
VERSION:2.0
PRODID:-//Department Of Education//6e8c4794-1080-4b77-b490-2cb98efc046d
BEGIN:VTIMEZONE
TZID:Australia/Sydney
TZURL:http://tzurl.org/zoneinfo-outlook/Australia/Sydney
X-LIC-LOCATION:Australia/Sydney
BEGIN:STANDARD
TZOFFSETFROM:+1100
TZOFFSETTO:+1000
TZNAME:AEST
DTSTART:19700405T030000
RRULE:FREQ=YEARLY;BYMONTH=4;BYDAY=1SU
END:STANDARD
BEGIN:DAYLIGHT
TZOFFSETFROM:+1000
TZOFFSETTO:+1100
TZNAME:AEDT
DTSTART:19701004T020000
RRULE:FREQ=YEARLY;BYMONTH=10;BYDAY=1SU
END:DAYLIGHT
END:VTIMEZONE
CALSCALE:GREGORIAN
X-WR-TIMEZONE:Australia/Sydney
BEGIN:VEVENT
DTSTART;TZID=Australia/Sydney:20200327T093039
DTEND;TZID=Australia/Sydney:20200327T110046
DTSTAMP:20200327T000000Z
UID:70b0dfda-b9f1-48af-8773-bfa6628b6863
LOCATION:Shellharbour Public School
SUMMARY;LANGUAGE=en-us:Infants Cross Country
SEQUENCE:0
DESCRIPTION:Our annual Infants Cross Country will be held at Shellharbour Public School on Friday, 27 March from 9.30 to 11.00am. Students are to wear their house colours for the day. A short presentation will occur at the completion of each event. Parents/carers are invited to stay and have a picnic lunch with their child/ren which will commence at approx. 10.40am.   
END:VEVENT
TRANSP:TRANSPARENT
END:VCALENDAR
