BEGIN:VCALENDAR
VERSION:2.0
PRODID:-//Department Of Education//0a2028bc-9bff-47ba-8f0f-38baf7632c43
BEGIN:VTIMEZONE
TZID:Australia/Sydney
TZURL:http://tzurl.org/zoneinfo-outlook/Australia/Sydney
X-LIC-LOCATION:Australia/Sydney
BEGIN:STANDARD
TZOFFSETFROM:+1100
TZOFFSETTO:+1000
TZNAME:AEST
DTSTART:19700405T030000
RRULE:FREQ=YEARLY;BYMONTH=4;BYDAY=1SU
END:STANDARD
BEGIN:DAYLIGHT
TZOFFSETFROM:+1000
TZOFFSETTO:+1100
TZNAME:AEDT
DTSTART:19701004T020000
RRULE:FREQ=YEARLY;BYMONTH=10;BYDAY=1SU
END:DAYLIGHT
END:VTIMEZONE
CALSCALE:GREGORIAN
X-WR-TIMEZONE:Australia/Sydney
BEGIN:VEVENT
DTSTART;TZID=Australia/Sydney:20200320T110006
DTEND;TZID=Australia/Sydney:20200320T124015
DTSTAMP:20200320T000000Z
UID:0f717289-64c8-40c0-be70-fcbb5884b69c
LOCATION:Shellharbour Public School
SUMMARY;LANGUAGE=en-us:Harmony Day Meal Deal
SEQUENCE:0
DESCRIPTION:On Friday, 20 March, Shellharbour Public School's Kid's Cafe will be having a Harmony Day Meal Deal.  The cost will be $7.00 ALL ORDER SLIPS MUST BE RETURNED TO THE CANTEEN BY 3.00PM ON MONDAY, 16 MARCH.
END:VEVENT
TRANSP:TRANSPARENT
END:VCALENDAR
