BEGIN:VCALENDAR
VERSION:2.0
PRODID:-//Department Of Education//5026bf38-8257-48d1-8e0c-88c96689f770
BEGIN:VTIMEZONE
TZID:Australia/Sydney
TZURL:http://tzurl.org/zoneinfo-outlook/Australia/Sydney
X-LIC-LOCATION:Australia/Sydney
BEGIN:STANDARD
TZOFFSETFROM:+1100
TZOFFSETTO:+1000
TZNAME:AEST
DTSTART:19700405T030000
RRULE:FREQ=YEARLY;BYMONTH=4;BYDAY=1SU
END:STANDARD
BEGIN:DAYLIGHT
TZOFFSETFROM:+1000
TZOFFSETTO:+1100
TZNAME:AEDT
DTSTART:19701004T020000
RRULE:FREQ=YEARLY;BYMONTH=10;BYDAY=1SU
END:DAYLIGHT
END:VTIMEZONE
CALSCALE:GREGORIAN
X-WR-TIMEZONE:Australia/Sydney
BEGIN:VEVENT
DTSTART;VALUE=DATE:20200325
DTEND;VALUE=DATE:20200326
DTSTAMP:20200325T000000Z
UID:91344a2c-3ace-4c7c-a40c-2dddb5c49c43
LOCATION:Killalea State Park
SUMMARY;LANGUAGE=en-us:Cross Country - Killalea State Park
SEQUENCE:0
DESCRIPTION:Our annual Cross Country will be held on Wednesday, 25 March, at Killalea State Park.  Students will depart school by bus at 9.15am and return at approximately 2.00pm. 11 ,12 & 13 year olds will run first, then 8, 9,& 10 year olds (those students in Year 2 who have already, or are turning 8 this year, are welcome to join us at Killalea) Students need to bring their bags with their recess, lunch and a drink inside. Full school sports uniform and school hat to be worn by all students. The P & C will run a BBQ on the day so students are welcome to bring along money if they wish to buy a sausage sizzle. Cost of the Cross Country is $3.50
END:VEVENT
TRANSP:TRANSPARENT
END:VCALENDAR
