BEGIN:VCALENDAR
VERSION:2.0
PRODID:-//Department Of Education//6cc1d491-9160-4a9f-8e88-551263c70d1e
BEGIN:VTIMEZONE
TZID:Australia/Sydney
TZURL:http://tzurl.org/zoneinfo-outlook/Australia/Sydney
X-LIC-LOCATION:Australia/Sydney
BEGIN:STANDARD
TZOFFSETFROM:+1100
TZOFFSETTO:+1000
TZNAME:AEST
DTSTART:19700405T030000
RRULE:FREQ=YEARLY;BYMONTH=4;BYDAY=1SU
END:STANDARD
BEGIN:DAYLIGHT
TZOFFSETFROM:+1000
TZOFFSETTO:+1100
TZNAME:AEDT
DTSTART:19701004T020000
RRULE:FREQ=YEARLY;BYMONTH=10;BYDAY=1SU
END:DAYLIGHT
END:VTIMEZONE
CALSCALE:GREGORIAN
X-WR-TIMEZONE:Australia/Sydney
BEGIN:VEVENT
DTSTART;VALUE=DATE:20200313
DTEND;VALUE=DATE:20200314
DTSTAMP:20200313T000000Z
UID:6c11e742-44d5-41bb-8636-5ff44ce80e48
LOCATION:Shellharbour Public School
SUMMARY;LANGUAGE=en-us:'Backyard Bugs'
SEQUENCE:0
DESCRIPTION:To complement the Science unit' Schoolyard Safari', Years One & Two will be participating in an incursion on Friday, 13 March. This will be focussed on the topic of 'Backyard Bugs' and run by 'Rangers on the Run' throughout the day. Students will receive a one hour talk and interactive session with the bugs where they will be introduced to the amazing world of minibeasts.
END:VEVENT
TRANSP:TRANSPARENT
END:VCALENDAR
