BEGIN:VCALENDAR
VERSION:2.0
PRODID:-//Department Of Education//3d09166e-acf9-4bc3-8112-391ff0e9e549
BEGIN:VTIMEZONE
TZID:Australia/Sydney
TZURL:http://tzurl.org/zoneinfo-outlook/Australia/Sydney
X-LIC-LOCATION:Australia/Sydney
BEGIN:STANDARD
TZOFFSETFROM:+1100
TZOFFSETTO:+1000
TZNAME:AEST
DTSTART:19700405T030000
RRULE:FREQ=YEARLY;BYMONTH=4;BYDAY=1SU
END:STANDARD
BEGIN:DAYLIGHT
TZOFFSETFROM:+1000
TZOFFSETTO:+1100
TZNAME:AEDT
DTSTART:19701004T020000
RRULE:FREQ=YEARLY;BYMONTH=10;BYDAY=1SU
END:DAYLIGHT
END:VTIMEZONE
CALSCALE:GREGORIAN
X-WR-TIMEZONE:Australia/Sydney
BEGIN:VEVENT
DTSTART;TZID=Australia/Sydney:20200228T131518
DTEND;TZID=Australia/Sydney:20200228T144533
DTSTAMP:20200228T000000Z
UID:f182dec2-9907-4475-aa53-cf4aedc09978
LOCATION:Addison Street & Little Park
SUMMARY;LANGUAGE=en-us:Year Six Clean Up Addison Street & Little Park
SEQUENCE:0
DESCRIPTION:On Friday, 28 February, The Ministry for the Environment and The Ministry for Community Service will lead Year Six students and their teachers along Addison Street to Little park as part of their contribution to 2020 Clean Up Australia Day. Students will participate in a workshop ' Choose the Right Bin, Don't just throw it in!' before being split into two groups and clean both sides of Addison Street. To conclude the event, we will celebrate with a well- deserved ice-cream in the park. If you would like to join us in this event, we will be leaving the school at 1.15pm. Although the school will have some gloves, it would be appreciated if your child could bring a pair of gardening gloves to wear.
END:VEVENT
TRANSP:TRANSPARENT
END:VCALENDAR
